BEGIN:VCALENDAR
VERSION:2.0
PRODID:-//TV Fi-Gö - ECPv6.15.14//NONSGML v1.0//EN
CALSCALE:GREGORIAN
METHOD:PUBLISH
X-ORIGINAL-URL:https://tv.figoe.ch
X-WR-CALDESC:Veranstaltungen für TV Fi-Gö
REFRESH-INTERVAL;VALUE=DURATION:PT1H
X-Robots-Tag:noindex
X-PUBLISHED-TTL:PT1H
BEGIN:VTIMEZONE
TZID:Europe/Helsinki
BEGIN:DAYLIGHT
TZOFFSETFROM:+0200
TZOFFSETTO:+0300
TZNAME:EEST
DTSTART:20250330T010000
END:DAYLIGHT
BEGIN:STANDARD
TZOFFSETFROM:+0300
TZOFFSETTO:+0200
TZNAME:EET
DTSTART:20251026T010000
END:STANDARD
BEGIN:DAYLIGHT
TZOFFSETFROM:+0200
TZOFFSETTO:+0300
TZNAME:EEST
DTSTART:20260329T010000
END:DAYLIGHT
BEGIN:STANDARD
TZOFFSETFROM:+0300
TZOFFSETTO:+0200
TZNAME:EET
DTSTART:20261025T010000
END:STANDARD
BEGIN:DAYLIGHT
TZOFFSETFROM:+0200
TZOFFSETTO:+0300
TZNAME:EEST
DTSTART:20270328T010000
END:DAYLIGHT
BEGIN:STANDARD
TZOFFSETFROM:+0300
TZOFFSETTO:+0200
TZNAME:EET
DTSTART:20271031T010000
END:STANDARD
END:VTIMEZONE
BEGIN:VEVENT
DTSTART;TZID=Europe/Helsinki:20261203T200000
DTEND;TZID=Europe/Helsinki:20261203T220000
DTSTAMP:20260420T130510
CREATED:20260408T201644Z
LAST-MODIFIED:20260408T201906Z
UID:9876-1796328000-1796335200@tv.figoe.ch
SUMMARY:Besuch Weihnachtsmarkt durch die MR
DESCRIPTION:
URL:https://tv.figoe.ch/event/besuch-weihnachtsmarkt-durch-die-maennerriege/
LOCATION:Bremgarten\, Bremgarten\, Aargau\, 5620\, Switzerland
CATEGORIES:Männerriege
END:VEVENT
BEGIN:VEVENT
DTSTART;TZID=Europe/Helsinki:20261205T173000
DTEND;TZID=Europe/Helsinki:20261205T233000
DTSTAMP:20260420T130510
CREATED:20251226T134242Z
LAST-MODIFIED:20251226T134242Z
UID:9460-1796491800-1796513400@tv.figoe.ch
SUMMARY:Chlaushock STV\, DTV\, Ü33
DESCRIPTION:
URL:https://tv.figoe.ch/event/chlaushock-stv-dtv-ue33/
CATEGORIES:DTV,STV,Ü33
END:VEVENT
BEGIN:VEVENT
DTSTART;TZID=Europe/Helsinki:20261216T190000
DTEND;TZID=Europe/Helsinki:20261216T220000
DTSTAMP:20260420T130510
CREATED:20251227T154737Z
LAST-MODIFIED:20251227T154737Z
UID:9499-1797447600-1797458400@tv.figoe.ch
SUMMARY:Weihnachtsturnen DTV & Ü33
DESCRIPTION:
URL:https://tv.figoe.ch/event/weihnachtsturnen-dtv-ue33/
CATEGORIES:DTV,Ü33
END:VEVENT
BEGIN:VEVENT
DTSTART;TZID=Europe/Helsinki:20261217T200000
DTEND;TZID=Europe/Helsinki:20261217T220000
DTSTAMP:20260420T130510
CREATED:20260408T201744Z
LAST-MODIFIED:20260408T201744Z
UID:9878-1797537600-1797544800@tv.figoe.ch
SUMMARY:Weihnachtsturnen MR
DESCRIPTION:
URL:https://tv.figoe.ch/event/weihnachtsturnen-mr/
LOCATION:Fischbach-Göslikon\, Fischbach-Göslikon\, 5525
CATEGORIES:Männerriege
END:VEVENT
BEGIN:VEVENT
DTSTART;TZID=Europe/Helsinki:20261218T200000
DTEND;TZID=Europe/Helsinki:20261218T220000
DTSTAMP:20260420T130510
CREATED:20251226T134319Z
LAST-MODIFIED:20251226T134319Z
UID:9462-1797624000-1797631200@tv.figoe.ch
SUMMARY:Weihnachtsturnen STV
DESCRIPTION:
URL:https://tv.figoe.ch/event/weihnachtsturnen-stv/
CATEGORIES:STV
END:VEVENT
END:VCALENDAR